BEGIN:VCALENDAR
VERSION:2.0
PRODID:-//Kaufman County Democrats - ECPv6.15.20//NONSGML v1.0//EN
CALSCALE:GREGORIAN
METHOD:PUBLISH
X-ORIGINAL-URL:https://kcdemocrats.org
X-WR-CALDESC:Events for Kaufman County Democrats
REFRESH-INTERVAL;VALUE=DURATION:PT1H
X-Robots-Tag:noindex
X-PUBLISHED-TTL:PT1H
BEGIN:VTIMEZONE
TZID:America/Chicago
BEGIN:DAYLIGHT
TZOFFSETFROM:-0600
TZOFFSETTO:-0500
TZNAME:CDT
DTSTART:20250309T080000
END:DAYLIGHT
BEGIN:STANDARD
TZOFFSETFROM:-0500
TZOFFSETTO:-0600
TZNAME:CST
DTSTART:20251102T070000
END:STANDARD
BEGIN:DAYLIGHT
TZOFFSETFROM:-0600
TZOFFSETTO:-0500
TZNAME:CDT
DTSTART:20260308T080000
END:DAYLIGHT
BEGIN:STANDARD
TZOFFSETFROM:-0500
TZOFFSETTO:-0600
TZNAME:CST
DTSTART:20261101T070000
END:STANDARD
BEGIN:DAYLIGHT
TZOFFSETFROM:-0600
TZOFFSETTO:-0500
TZNAME:CDT
DTSTART:20270314T080000
END:DAYLIGHT
BEGIN:STANDARD
TZOFFSETFROM:-0500
TZOFFSETTO:-0600
TZNAME:CST
DTSTART:20271107T070000
END:STANDARD
END:VTIMEZONE
BEGIN:VEVENT
DTSTART;TZID=America/Chicago:20260117T140000
DTEND;TZID=America/Chicago:20260117T150000
DTSTAMP:20260423T190642
CREATED:20251227T145743Z
LAST-MODIFIED:20251227T145935Z
UID:2142-1768658400-1768662000@kcdemocrats.org
SUMMARY:Jan KC Dems Meeting
DESCRIPTION:KC Dems monthly meeeting \n 
URL:https://kcdemocrats.org/event/jan-kc-dems-meeting/
LOCATION:Kaufman County Library\, 3790 S Houston\, Kaufman\, TX\, 75142\, United States
CATEGORIES:Monthly Meeting
ORGANIZER;CN="Kaufman County Democrats":MAILTO:Coms@kcdemocrats.org
END:VEVENT
END:VCALENDAR