BEGIN:VCALENDAR
VERSION:2.0
PRODID:-//Kaufman County Democrats - ECPv6.15.20//NONSGML v1.0//EN
CALSCALE:GREGORIAN
METHOD:PUBLISH
X-WR-CALNAME:Kaufman County Democrats
X-ORIGINAL-URL:https://kcdemocrats.org
X-WR-CALDESC:Events for Kaufman County Democrats
REFRESH-INTERVAL;VALUE=DURATION:PT1H
X-Robots-Tag:noindex
X-PUBLISHED-TTL:PT1H
BEGIN:VTIMEZONE
TZID:America/Chicago
BEGIN:DAYLIGHT
TZOFFSETFROM:-0600
TZOFFSETTO:-0500
TZNAME:CDT
DTSTART:20250309T080000
END:DAYLIGHT
BEGIN:STANDARD
TZOFFSETFROM:-0500
TZOFFSETTO:-0600
TZNAME:CST
DTSTART:20251102T070000
END:STANDARD
BEGIN:DAYLIGHT
TZOFFSETFROM:-0600
TZOFFSETTO:-0500
TZNAME:CDT
DTSTART:20260308T080000
END:DAYLIGHT
BEGIN:STANDARD
TZOFFSETFROM:-0500
TZOFFSETTO:-0600
TZNAME:CST
DTSTART:20261101T070000
END:STANDARD
BEGIN:DAYLIGHT
TZOFFSETFROM:-0600
TZOFFSETTO:-0500
TZNAME:CDT
DTSTART:20270314T080000
END:DAYLIGHT
BEGIN:STANDARD
TZOFFSETFROM:-0500
TZOFFSETTO:-0600
TZNAME:CST
DTSTART:20271107T070000
END:STANDARD
END:VTIMEZONE
BEGIN:VEVENT
DTSTART;TZID=America/Chicago:20260221T140000
DTEND;TZID=America/Chicago:20260221T150000
DTSTAMP:20260423T190710
CREATED:20251228T224304Z
LAST-MODIFIED:20251228T230254Z
UID:2171-1771682400-1771686000@kcdemocrats.org
SUMMARY:KC Dems February Meeting
DESCRIPTION:Kaufman County Democrats invite you to our Monthly Meeting on the 3rd Saturday of each month! \nSaturday\, February 21\, 2026 @ 2pm \nThe OC in North Forney \n680 Innovation Blvd\, East Entrance\, Room #183
URL:https://kcdemocrats.org/event/kc-dems-february-meeting/
LOCATION:Kaufman County Library\, 3790 S Houston\, Kaufman\, TX\, 75142\, United States
CATEGORIES:Monthly Meeting
ORGANIZER;CN="Kaufman County Democrats":MAILTO:Coms@kcdemocrats.org
END:VEVENT
END:VCALENDAR