BEGIN:VCALENDAR
VERSION:2.0
PRODID:-//Kaufman County Democrats - ECPv6.15.20//NONSGML v1.0//EN
CALSCALE:GREGORIAN
METHOD:PUBLISH
X-ORIGINAL-URL:https://kcdemocrats.org
X-WR-CALDESC:Events for Kaufman County Democrats
REFRESH-INTERVAL;VALUE=DURATION:PT1H
X-Robots-Tag:noindex
X-PUBLISHED-TTL:PT1H
BEGIN:VTIMEZONE
TZID:America/Chicago
BEGIN:DAYLIGHT
TZOFFSETFROM:-0600
TZOFFSETTO:-0500
TZNAME:CDT
DTSTART:20250309T080000
END:DAYLIGHT
BEGIN:STANDARD
TZOFFSETFROM:-0500
TZOFFSETTO:-0600
TZNAME:CST
DTSTART:20251102T070000
END:STANDARD
BEGIN:DAYLIGHT
TZOFFSETFROM:-0600
TZOFFSETTO:-0500
TZNAME:CDT
DTSTART:20260308T080000
END:DAYLIGHT
BEGIN:STANDARD
TZOFFSETFROM:-0500
TZOFFSETTO:-0600
TZNAME:CST
DTSTART:20261101T070000
END:STANDARD
BEGIN:DAYLIGHT
TZOFFSETFROM:-0600
TZOFFSETTO:-0500
TZNAME:CDT
DTSTART:20270314T080000
END:DAYLIGHT
BEGIN:STANDARD
TZOFFSETFROM:-0500
TZOFFSETTO:-0600
TZNAME:CST
DTSTART:20271107T070000
END:STANDARD
END:VTIMEZONE
BEGIN:VEVENT
DTSTART;TZID=America/Chicago:20260328T140000
DTEND;TZID=America/Chicago:20260328T153000
DTSTAMP:20260423T160341
CREATED:20260308T000026Z
LAST-MODIFIED:20260310T222640Z
UID:2680-1774706400-1774711800@kcdemocrats.org
SUMMARY:No Kings Rally - March 28\, 2026
DESCRIPTION:Come out and join the millions of people nationwide who want to live in a democracy\, not a dictatorship and to have a president for all the people\, not a king for the elite. \n2pm @ Hamblen Park \n94 S Boi D’Arc St. \nDowntown Forney\, TX \nRSVP: https://www.mobilize.us/citizensagainstyranny/event/917157/
URL:https://kcdemocrats.org/event/no-kings-rally-march-28-2026/
LOCATION:Hamblen Park\, Forney\, 94 S Bois D’Arc St\, Forney\, TX\, 75126\, United States
CATEGORIES:Rally / Protest
ORGANIZER;CN="Kaufman County Democrats":MAILTO:Coms@kcdemocrats.org
END:VEVENT
END:VCALENDAR