BEGIN:VCALENDAR
VERSION:2.0
PRODID:-//Kaufman County Democrats - ECPv6.15.20//NONSGML v1.0//EN
CALSCALE:GREGORIAN
METHOD:PUBLISH
X-WR-CALNAME:Kaufman County Democrats
X-ORIGINAL-URL:https://kcdemocrats.org
X-WR-CALDESC:Events for Kaufman County Democrats
REFRESH-INTERVAL;VALUE=DURATION:PT1H
X-Robots-Tag:noindex
X-PUBLISHED-TTL:PT1H
BEGIN:VTIMEZONE
TZID:America/Chicago
BEGIN:DAYLIGHT
TZOFFSETFROM:-0600
TZOFFSETTO:-0500
TZNAME:CDT
DTSTART:20250309T080000
END:DAYLIGHT
BEGIN:STANDARD
TZOFFSETFROM:-0500
TZOFFSETTO:-0600
TZNAME:CST
DTSTART:20251102T070000
END:STANDARD
BEGIN:DAYLIGHT
TZOFFSETFROM:-0600
TZOFFSETTO:-0500
TZNAME:CDT
DTSTART:20260308T080000
END:DAYLIGHT
BEGIN:STANDARD
TZOFFSETFROM:-0500
TZOFFSETTO:-0600
TZNAME:CST
DTSTART:20261101T070000
END:STANDARD
BEGIN:DAYLIGHT
TZOFFSETFROM:-0600
TZOFFSETTO:-0500
TZNAME:CDT
DTSTART:20270314T080000
END:DAYLIGHT
BEGIN:STANDARD
TZOFFSETFROM:-0500
TZOFFSETTO:-0600
TZNAME:CST
DTSTART:20271107T070000
END:STANDARD
END:VTIMEZONE
BEGIN:VEVENT
DTSTART;TZID=America/Chicago:20260423T180000
DTEND;TZID=America/Chicago:20260423T193000
DTSTAMP:20260423T132223
CREATED:20260306T225445Z
LAST-MODIFIED:20260415T020126Z
UID:2675-1776967200-1776972600@kcdemocrats.org
SUMMARY:Dinner w/ Dems - April 2026
DESCRIPTION:Dinner w/Dems – a casual gathering of like-minded folks and get to know one another better. This is not a meeting but there might be an announcement or two. We move around from city to city within the county. \n  \nHold the dates – 4th Thursday @ 6pm monthly \n  \nThursday\, April 23rd @ 6pm \nJesse’s Fajitas n Ritas \n101 W Mulberry St \nKaufman TX
URL:https://kcdemocrats.org/event/2675/
CATEGORIES:Social Events
END:VEVENT
END:VCALENDAR